BEGIN:VCALENDAR
VERSION:2.0
PRODID:-//Bedlam Brass - ECPv6.15.17.1//NONSGML v1.0//EN
CALSCALE:GREGORIAN
METHOD:PUBLISH
X-ORIGINAL-URL:https://bedlambrass.com
X-WR-CALDESC:Events for Bedlam Brass
REFRESH-INTERVAL;VALUE=DURATION:PT1H
X-Robots-Tag:noindex
X-PUBLISHED-TTL:PT1H
BEGIN:VTIMEZONE
TZID:America/New_York
BEGIN:DAYLIGHT
TZOFFSETFROM:-0500
TZOFFSETTO:-0400
TZNAME:EDT
DTSTART:20230312T070000
END:DAYLIGHT
BEGIN:STANDARD
TZOFFSETFROM:-0400
TZOFFSETTO:-0500
TZNAME:EST
DTSTART:20231105T060000
END:STANDARD
BEGIN:DAYLIGHT
TZOFFSETFROM:-0500
TZOFFSETTO:-0400
TZNAME:EDT
DTSTART:20240310T070000
END:DAYLIGHT
BEGIN:STANDARD
TZOFFSETFROM:-0400
TZOFFSETTO:-0500
TZNAME:EST
DTSTART:20241103T060000
END:STANDARD
BEGIN:DAYLIGHT
TZOFFSETFROM:-0500
TZOFFSETTO:-0400
TZNAME:EDT
DTSTART:20250309T070000
END:DAYLIGHT
BEGIN:STANDARD
TZOFFSETFROM:-0400
TZOFFSETTO:-0500
TZNAME:EST
DTSTART:20251102T060000
END:STANDARD
BEGIN:DAYLIGHT
TZOFFSETFROM:-0500
TZOFFSETTO:-0400
TZNAME:EDT
DTSTART:20260308T070000
END:DAYLIGHT
BEGIN:STANDARD
TZOFFSETFROM:-0400
TZOFFSETTO:-0500
TZNAME:EST
DTSTART:20261101T060000
END:STANDARD
BEGIN:DAYLIGHT
TZOFFSETFROM:-0500
TZOFFSETTO:-0400
TZNAME:EDT
DTSTART:20270314T070000
END:DAYLIGHT
BEGIN:STANDARD
TZOFFSETFROM:-0400
TZOFFSETTO:-0500
TZNAME:EST
DTSTART:20271107T060000
END:STANDARD
END:VTIMEZONE
BEGIN:VEVENT
DTSTART;TZID=America/New_York:20260409T190000
DTEND;TZID=America/New_York:20260409T230000
DTSTAMP:20260423T124516
CREATED:20260315T231154Z
LAST-MODIFIED:20260315T231154Z
UID:372-1775761200-1775775600@bedlambrass.com
SUMMARY:Bedlam Brass @ Ottobar
DESCRIPTION:Join us at Ottobar with our friends 50′ Woman & The Worms and Voltamatic!
URL:https://bedlambrass.com/event/bedlam-brass-ottobar/
LOCATION:Ottobar\, 2549 N Howard St\, Baltimore\, MD\, 21218\, United States
ATTACH;FMTTYPE=image/jpeg:https://bedlambrass.com/wp-content/uploads/2026/03/bedlam-4-9-26-ottobar-small.jpg
END:VEVENT
BEGIN:VEVENT
DTSTART;TZID=America/New_York:20250418T180000
DTEND;TZID=America/New_York:20250418T230000
DTSTAMP:20260423T124516
CREATED:20250312T011642Z
LAST-MODIFIED:20250312T012031Z
UID:361-1744999200-1745017200@bedlambrass.com
SUMMARY:Big F*cking Desk Concert #2
DESCRIPTION:We’re back for our second annual Big F*cking Desk Concert\, celebrating opening week of the Current Space Garden Bar. And you know there will be a very large desk\, you can you take your picture on it! \nLast year’s show was such a blast\, we can’t wait to see you there again! \nBedlam Brass\nEze Jackson\nCal Folger Day \nDoors 6pm\, Music 7pm\nTickets $12 in advance\, $15 day of
URL:https://bedlambrass.com/event/big-fcking-desk-concert-2/
LOCATION:Current Space Garden Bar\, 421 Tyson St\, Baltimore\, MD\, 21201\, United States
CATEGORIES:Show
ATTACH;FMTTYPE=image/jpeg:https://bedlambrass.com/wp-content/uploads/2025/03/4-18-25-poster-1-e1741742288635.jpg
END:VEVENT
BEGIN:VEVENT
DTSTART;TZID=America/New_York:20241012T170000
DTEND;TZID=America/New_York:20241012T230000
DTSTAMP:20260423T124516
CREATED:20240905T153656Z
LAST-MODIFIED:20240905T153656Z
UID:354-1728752400-1728774000@bedlambrass.com
SUMMARY:Charm City Meadworks 10th Anniversary Celebration
DESCRIPTION:With Black Lung\, Bedlam Brass\, and Patterson Trash \nStay tuned for more details.
URL:https://bedlambrass.com/event/charm-city-meadworks-10th-anniversary-celebration/
LOCATION:Charm City Meadworks\, 400 E Biddle St\, Baltimore\, MD\, 21202\, United States
CATEGORIES:Show
ATTACH;FMTTYPE=image/jpeg:https://bedlambrass.com/wp-content/uploads/2024/09/meadworks-small.jpg
END:VEVENT
BEGIN:VEVENT
DTSTART;TZID=America/New_York:20240823T200000
DTEND;TZID=America/New_York:20240823T230000
DTSTAMP:20260423T124516
CREATED:20240328T141624Z
LAST-MODIFIED:20240707T162011Z
UID:73-1724443200-1724454000@bedlambrass.com
SUMMARY:Bedlam Brass @ The Club Car Baltimore
DESCRIPTION:Join us for a raucus summer night of music and dancing! \nBedlam Brass\nInsatiable High\nThe Wavs \nFriday\, August 23\nDoors at 8\, Music at 8:30 \nThe Club Car Baltimore\n$13 advance\, $15 at the door
URL:https://bedlambrass.com/event/bedlams-summer-bash/
LOCATION:The Club Car Baltimore\, 12 W North Ave\, Baltimore\, MD\, 21201\, United States
CATEGORIES:Show
ATTACH;FMTTYPE=image/jpeg:https://bedlambrass.com/wp-content/uploads/2024/03/poster-v2-website-copy.jpg
END:VEVENT
BEGIN:VEVENT
DTSTART;TZID=America/New_York:20240607T193000
DTEND;TZID=America/New_York:20240607T230000
DTSTAMP:20260423T124516
CREATED:20240328T141307Z
LAST-MODIFIED:20240513T125313Z
UID:70-1717788600-1717801200@bedlambrass.com
SUMMARY:Bedlam's Variety Show\, hosted by Dreambaby
DESCRIPTION:Join us for a delightful evening of puppets\, dogs\, and joyful chaos\, hosted by our friend Dreambaby. \nJune 7 marks the return of our famous Good Dog Slideshow. You will have the opportunity to submit a photo of your Good Dog\, and Dreambaby will present them to the world! We will also be screening video shorts from Liz Downing and Lynn Thomlinson\, plus a special presentation of The Feast by Zeb Blair and Kim Le. \n$12 in Advance\, $15 at the Door
URL:https://bedlambrass.com/event/bedlam-variety-show/
LOCATION:Charm City Meadworks\, 400 E Biddle St\, Baltimore\, MD\, 21202\, United States
CATEGORIES:Show
ATTACH;FMTTYPE=image/jpeg:https://bedlambrass.com/wp-content/uploads/2024/03/6-7-24-meadworks-variety-show-poster-2-copy-scaled-e1715602950861.jpg
END:VEVENT
BEGIN:VEVENT
DTSTART;TZID=America/New_York:20240511T123000
DTEND;TZID=America/New_York:20240511T130000
DTSTAMP:20260423T124516
CREATED:20240219T205656Z
LAST-MODIFIED:20240425T230318Z
UID:41-1715430600-1715432400@bedlambrass.com
SUMMARY:Bedlam Brass @ Remfest 2024
DESCRIPTION:Join us for the return of Remfest\, the most fun neightborhood festival in Baltimore! We’ll be opening up the festival at noon with a very special opening ceremony performance\, not to be missed. \nLearn about Remfest more on Facebook.
URL:https://bedlambrass.com/event/bedlam-brass-remfest-2024/
LOCATION:Remfest 2024\, Remington\, Baltimore\, MD
CATEGORIES:Festival
ATTACH;FMTTYPE=image/jpeg:https://bedlambrass.com/wp-content/uploads/2024/02/RemFest2024_webflyer.jpg
END:VEVENT
BEGIN:VEVENT
DTSTART;TZID=America/New_York:20240419T180000
DTEND;TZID=America/New_York:20240419T230000
DTSTAMP:20260423T124516
CREATED:20240315T144119Z
LAST-MODIFIED:20240315T144158Z
UID:64-1713549600-1713567600@bedlambrass.com
SUMMARY:Bedlam's Big F*cking Desk Concert
DESCRIPTION:Bedlam Brass\nPatterson Trash\nOrchester Prazevica \nDoors 6pm\, Music 7pm\n$12 in advance\, $15 at the door \nThere will be a big f*cking desk. Huge. Colossal. The desk to end all desks. You may have your picture taken with it\, if it consents.
URL:https://bedlambrass.com/event/bedlams-big-fcking-desk-concert/
LOCATION:Current Space Garden Bar\, 421 Tyson St\, Baltimore\, MD\, 21201\, United States
CATEGORIES:Show
ATTACH;FMTTYPE=image/jpeg:https://bedlambrass.com/wp-content/uploads/2024/03/BigDeskPoster4-19-24.jpg
END:VEVENT
END:VCALENDAR